BEGIN:VCALENDAR
VERSION:2.0
PRODID:-//Canal Touch Resort Karjat - ECPv5.9.0//NONSGML v1.0//EN
CALSCALE:GREGORIAN
METHOD:PUBLISH
X-WR-CALNAME:Canal Touch Resort Karjat
X-ORIGINAL-URL:https://canaltouchresort.com
X-WR-CALDESC:Events for Canal Touch Resort Karjat
BEGIN:VTIMEZONE
TZID:UTC
BEGIN:STANDARD
TZOFFSETFROM:+0000
TZOFFSETTO:+0000
TZNAME:UTC
DTSTART:20200101T000000
END:STANDARD
END:VTIMEZONE
BEGIN:VEVENT
DTSTART;TZID=UTC:20200917T080000
DTEND;TZID=UTC:20260908T170000
DTSTAMP:20260419T203748
CREATED:20170630T081124Z
LAST-MODIFIED:20190423T075557Z
UID:328-1600329600-1788886800@canaltouchresort.com
SUMMARY:Miss City Pool
DESCRIPTION:Sed vel tellus quis ipsum condimentum suscipit. Nunc pretium luctus ullamcorper. Aenean et leo fringilla\, vehicula nisi sed\, malesuada lectus. Donec facilisis vitae tortor vel venenatis. Praesent in tortor dolor. Mauris eget nunc eget dolor tristique tincidunt at vitae nulla. Nunc leo ex\, hendrerit tincidunt mauris eu\, convallis luctus est. Phasellus nec facilisis mauris. Suspendisse augue dui\, rutrum non congue congue\, lobortis et mauris. Vivamus scelerisque tincidunt mi\, at molestie lorem maximus sed. In dignissim faucibus ornare. Mauris dignissim dui convallis neque mattis euismod. Interdum et malesuada fames ac ante ipsum primis in faucibus. Sed accumsan maximus semper. \nMaecenas in urna viverra\, posuere odio sed\, congue metus. Curabitur nec ipsum dolor. Donec augue ex\, faucibus a finibus id\, sodales at turpis. Phasellus et condimentum magna\, vel bibendum massa. Phasellus nec felis finibus\, mollis nulla quis\, scelerisque ligula. Maecenas nec fringilla felis\, id iaculis tortor. Morbi lobortis elit nisi\, nec eleifend massa mattis et. Donec sed risus et turpis rutrum scelerisque. Aenean nec ipsum quis tortor bibendum facilisis. Quisque vulputate dignissim elementum. Nullam vulputate fringilla malesuada. Pellentesque lacus ante\, finibus eget ligula ac\, iaculis suscipit lectus. Aliquam sit amet erat in dui pulvinar vulputate a eu odio. \nMaecenas in urna viverra\, posuere odio sed\, congue metus. Curabitur nec ipsum dolor. Donec augue ex\, faucibus a finibus id\, sodales at turpis. Phasellus et condimentum magna\, vel bibendum massa. Phasellus nec felis finibus\, mollis nulla quis\, scelerisque ligula. Maecenas nec fringilla felis\, id iaculis tortor. Morbi lobortis elit nisi\, nec eleifend massa mattis et. Donec sed risus et turpis rutrum scelerisque. Aenean nec ipsum quis tortor bibendum facilisis. Quisque vulputate dignissim elementum. Nullam vulputate fringilla malesuada. Pellentesque lacus ante\, finibus eget ligula ac\, iaculis suscipit lectus. Aliquam sit amet erat in dui pulvinar vulputate a eu odio.
URL:https://canaltouchresort.com/event/miss-city-pool/
LOCATION:Playa Club\, 350 5th Ave\, New York\, NY 10118\, USA
CATEGORIES:Upcoming
ATTACH;FMTTYPE=image/jpeg:https://canaltouchresort.com/wp-content/uploads/2017/06/event-6.jpg
ORGANIZER;CN="Pool%20Club":MAILTO:info@ example.com
END:VEVENT
END:VCALENDAR